BEGIN:VCALENDAR
VERSION:2.0
PRODID:-//CERN//INDICO//EN
BEGIN:VEVENT
SUMMARY:GENERA-COPA April meeting
DTSTART:20260420T070000Z
DTEND:20260421T214000Z
DTSTAMP:20260424T182300Z
UID:indico-event-23@indico.uniovi.es
DESCRIPTION:Speakers: Barbara Alvarez Gonzalez (University of Oviedo and I
 CTEA)\, Yolanda Lozano (University of Oviedo)\, Tomas Brage\, Meytal Eran 
 Jona\, Chiara Badia\, Deirdre NiEidhin\, Lisa Kamlade\, Milica Pavkov-Hrvo
 jević\, Sabina Pellizzoni\, Thomas Berghoefer\, Maria Rosaria Masullo\n\n
 \n\nhttps://indico.uniovi.es/event/23/
URL:https://indico.uniovi.es/event/23/
END:VEVENT
END:VCALENDAR
