BEGIN:VCALENDAR
VERSION:2.0
PRODID:-//CERN//INDICO//EN
BEGIN:VEVENT
SUMMARY:Investigando Higgs y nueva física en el LHC con el leptón Tau
DTSTART:20260306T110000Z
DTEND:20260306T120000Z
DTSTAMP:20260424T233200Z
UID:indico-event-25@indico.uniovi.es
CONTACT:ictea@uniovi.es
DESCRIPTION:Speakers: Andrea Cardini (ICTEA - Universidad de Oviedo)\n\nLo
 s taus son los leptones más masivos del Modelo Estándar y se desintegran
  exclusivamente mediante interacción débil\, por lo tanto son excelentes
  sondas para la física electrodébil y para la búsqueda de nueva física
 . Su corta vida media impide su identificación y su reconstrucción direc
 ta\, que se realiza a través de sus productos de desintegración visibles
 . Desde la primera fase del LHC\, la colaboración CMS ha desarrollado alg
 oritmos específicos para reconstruir las desintegraciones hadrónicas de 
 los tau y para identificarlos frente a otros tipos de particulas. Esta cha
 rla ofrecerá una visión general de la evolución de la reconstrucción e
  identificación de los taus en CMS\, con especial atención a los avances
  más recientes basados en tecnologías de aprendizaje máquina.\nBio\nAnd
 rea Cardini es un investigador postdoctoral en física de partículas. Se 
 doctoró en Alemania con una tesis sobre las propiedades del bosón de Hig
 gs con respecto a la simetría CP en el experimento CMS. Llegó a Oviedo e
 n Noviembre de 2024 como miembro del grupo de física de altas energías y
  de ICTEA. Actualmente trabaja en la búsqueda de partículas de larga vid
 a media que se desintegran en muones\, así como en algoritmos para la act
 ualización del sistema de trigger que será desarrollado por el experimen
 to CMS durante el HL-LHC. Colabora con otros investigadores de la colabora
 ción CMS en técnicas de reconstrucción e identificación de los leptone
 s tau.\n\nhttps://indico.uniovi.es/event/25/
LOCATION:Sala de Grados (Facultad de Ciencias)
URL:https://indico.uniovi.es/event/25/
END:VEVENT
END:VCALENDAR
