BEGIN:VCALENDAR
VERSION:2.0
PRODID:-//CERN//INDICO//EN
BEGIN:VEVENT
SUMMARY:4ª Jornada del Clúster de Computación Científica (C³)
DTSTART:20260626T070000Z
DTEND:20260626T121000Z
DTSTAMP:20260424T170800Z
UID:indico-event-26@indico.uniovi.es
CONTACT:gonzalezisidro@uniovi.es
DESCRIPTION:Speakers: Ángel Gutiérrez Rodríguez (SCTs)\, Roberto Iglesi
 as (Universidad de Oviedo)\, Jesús Alberto López Fernández (Universidad
  de Oviedo)\, Xose Puente (Universidad de Oviedo)\, Isidro González Cabal
 lero (ICTEA - Universidad de Oviedo)\n\nEl Clúster de Computación Cient
 ífica (C³) surge hace cinco años para aglutinar en un espacio único y 
 adecuadamente acondicionado los esfuerzos de computación científica de l
 os grupos de investigación de la Universidad de Oviedo. \nLas jornadas a
 nteriores permitieron  compartir los intereses comunes\, necesidades y co
 nocimientos de los usuarios del centro\, así como mostrarlos al resto de 
 la comunidad universitaria.\nCon ese mismo espíritu y con la intención d
 e definir el futuro de esta infraestructura científica universitario conv
 ocamos este año la  4ª Jornada del Centro de Computación Científica (
 C³)​​​​​​​ el jueves\, 26 de Junio de 2026.\n \n\nhttps:/
 /indico.uniovi.es/event/26/
LOCATION:Sala de Grados (Escuela Politécnica de Mieres (EPM))
URL:https://indico.uniovi.es/event/26/
END:VEVENT
END:VCALENDAR
